BEGIN:VCALENDAR
VERSION:2.0
PRODID:-//Cedar Rod and Gun Club - ECPv6.15.20//NONSGML v1.0//EN
CALSCALE:GREGORIAN
METHOD:PUBLISH
X-WR-CALNAME:Cedar Rod and Gun Club
X-ORIGINAL-URL:https://crgc.org
X-WR-CALDESC:Events for Cedar Rod and Gun Club
REFRESH-INTERVAL;VALUE=DURATION:PT1H
X-Robots-Tag:noindex
X-PUBLISHED-TTL:PT1H
BEGIN:VTIMEZONE
TZID:America/New_York
BEGIN:DAYLIGHT
TZOFFSETFROM:-0500
TZOFFSETTO:-0400
TZNAME:EDT
DTSTART:20240310T070000
END:DAYLIGHT
BEGIN:STANDARD
TZOFFSETFROM:-0400
TZOFFSETTO:-0500
TZNAME:EST
DTSTART:20241103T060000
END:STANDARD
BEGIN:DAYLIGHT
TZOFFSETFROM:-0500
TZOFFSETTO:-0400
TZNAME:EDT
DTSTART:20250309T070000
END:DAYLIGHT
BEGIN:STANDARD
TZOFFSETFROM:-0400
TZOFFSETTO:-0500
TZNAME:EST
DTSTART:20251102T060000
END:STANDARD
BEGIN:DAYLIGHT
TZOFFSETFROM:-0500
TZOFFSETTO:-0400
TZNAME:EDT
DTSTART:20260308T070000
END:DAYLIGHT
BEGIN:STANDARD
TZOFFSETFROM:-0400
TZOFFSETTO:-0500
TZNAME:EST
DTSTART:20261101T060000
END:STANDARD
END:VTIMEZONE
BEGIN:VEVENT
DTSTART;TZID=America/New_York:20250812T163000
DTEND;TZID=America/New_York:20250812T200000
DTSTAMP:20260422T181919
CREATED:20250420T170911Z
LAST-MODIFIED:20250420T170913Z
UID:10001339-1755016200-1755028800@crgc.org
SUMMARY:Trap - singles PISTOL is CLOSED
DESCRIPTION:Trap is shot from the 16 yard pad.  Single. Look for special double trap events through out the year! \nPistol range is closed!
URL:https://crgc.org/event-2/trap-singles-2-2/2025-08-12/
END:VEVENT
BEGIN:VEVENT
DTSTART;TZID=America/New_York:20250811T170000
DTEND;TZID=America/New_York:20250811T200000
DTSTAMP:20260422T181919
CREATED:20250514T212455Z
LAST-MODIFIED:20250514T212455Z
UID:10001533-1754931600-1754942400@crgc.org
SUMMARY:Skeet & 5 Stand - rifle is CLOSED
DESCRIPTION:Rifle is closed during this time.
URL:https://crgc.org/event-2/skeet-5-stand-rifle-is-closed/2025-08-11/
END:VEVENT
BEGIN:VEVENT
DTSTART;TZID=America/New_York:20250810T090000
DTEND;TZID=America/New_York:20250810T140000
DTSTAMP:20260422T181919
CREATED:20250324T164623Z
LAST-MODIFIED:20250324T164623Z
UID:10001321-1754816400-1754834400@crgc.org
SUMMARY:Jim Westlake Memorial
DESCRIPTION:CRGC vs Action Shooting Sports. This was Jim’s favorite 2 day event with highest average score gets the traveling jug trophy.  August 9th at Action.  Lunch provided at both locations.
URL:https://crgc.org/event-2/jim-westlake-memorial/
END:VEVENT
BEGIN:VEVENT
DTSTART;TZID=America/New_York:20250809T100000
DTEND;TZID=America/New_York:20250809T150000
DTSTAMP:20260422T181919
CREATED:20250423T164109Z
LAST-MODIFIED:20250520T140552Z
UID:10001507-1754733600-1754751600@crgc.org
SUMMARY:Sporting Clays - rifle & pistol are CLOSED
DESCRIPTION:Last group out at 2pm. \n10 stations\, 50 shots
URL:https://crgc.org/event-2/sporting-clays-rifle-is-closed/2025-08-09/
END:VEVENT
BEGIN:VEVENT
DTSTART;TZID=America/New_York:20250809T090000
DTEND;TZID=America/New_York:20250809T140000
DTSTAMP:20260422T181919
CREATED:20250411T160103Z
LAST-MODIFIED:20250411T160103Z
UID:10001322-1754730000-1754748000@crgc.org
SUMMARY:Jim Westlake Memorial Shoot
DESCRIPTION:Aug 9th at Action Shooting Sports. 2 day event\, 2 locations \ncontact Rick to register 231-492-2222 \nAug 10th at CRGC.  50 targets
URL:https://crgc.org/event-2/jim-westlake-memorial-shoot/
END:VEVENT
BEGIN:VEVENT
DTSTART;TZID=America/New_York:20250806T160000
DTEND;TZID=America/New_York:20250806T200000
DTSTAMP:20260422T181919
CREATED:20250423T164739Z
LAST-MODIFIED:20250427T224102Z
UID:10001449-1754496000-1754510400@crgc.org
SUMMARY:Sporting Clays - rifle & pistol are CLOSED
DESCRIPTION:Last group out at 7pm. \n10 stations\, 50 shots
URL:https://crgc.org/event-2/sporting-clays-rifle-is-closed-2/2025-08-06/
END:VEVENT
BEGIN:VEVENT
DTSTART;TZID=America/New_York:20250806T123000
DTEND;TZID=America/New_York:20250806T200000
DTSTAMP:20260422T181919
CREATED:20250423T165137Z
LAST-MODIFIED:20250424T130505Z
UID:10001476-1754483400-1754510400@crgc.org
SUMMARY:Pistol is closed
DESCRIPTION:Closed for a short time to reload Sporting Clays traps
URL:https://crgc.org/event-2/pistol-is-closed/2025-08-06/
END:VEVENT
BEGIN:VEVENT
DTSTART;TZID=America/New_York:20250806T100000
DTEND;TZID=America/New_York:20250806T140000
DTSTAMP:20260422T181919
CREATED:20250122T032744Z
LAST-MODIFIED:20250424T184945Z
UID:10000903-1754474400-1754488800@crgc.org
SUMMARY:Skeet & 5 stand  - rifle is CLOSED
DESCRIPTION:Rifle range is closed during these times.
URL:https://crgc.org/event-2/skeet-5-stand/2025-08-06/
END:VEVENT
BEGIN:VEVENT
DTSTART;TZID=America/New_York:20250805T163000
DTEND;TZID=America/New_York:20250805T200000
DTSTAMP:20260422T181919
CREATED:20250420T170911Z
LAST-MODIFIED:20250420T170913Z
UID:10001338-1754411400-1754424000@crgc.org
SUMMARY:Trap - singles PISTOL is CLOSED
DESCRIPTION:Trap is shot from the 16 yard pad.  Single. Look for special double trap events through out the year! \nPistol range is closed!
URL:https://crgc.org/event-2/trap-singles-2-2/2025-08-05/
END:VEVENT
BEGIN:VEVENT
DTSTART;TZID=America/New_York:20250804T170000
DTEND;TZID=America/New_York:20250804T200000
DTSTAMP:20260422T181919
CREATED:20250514T212455Z
LAST-MODIFIED:20250514T212455Z
UID:10001532-1754326800-1754337600@crgc.org
SUMMARY:Skeet & 5 Stand - rifle is CLOSED
DESCRIPTION:Rifle is closed during this time.
URL:https://crgc.org/event-2/skeet-5-stand-rifle-is-closed/2025-08-04/
END:VEVENT
BEGIN:VEVENT
DTSTART;TZID=America/New_York:20250802T100000
DTEND;TZID=America/New_York:20250802T150000
DTSTAMP:20260422T181919
CREATED:20250423T164109Z
LAST-MODIFIED:20250520T140552Z
UID:10001506-1754128800-1754146800@crgc.org
SUMMARY:Sporting Clays - rifle & pistol are CLOSED
DESCRIPTION:Last group out at 2pm. \n10 stations\, 50 shots
URL:https://crgc.org/event-2/sporting-clays-rifle-is-closed/2025-08-02/
END:VEVENT
BEGIN:VEVENT
DTSTART;TZID=America/New_York:20250802T093000
DTEND;TZID=America/New_York:20250802T103000
DTSTAMP:20260422T181919
CREATED:20250324T155208Z
LAST-MODIFIED:20250324T155208Z
UID:10001314-1754127000-1754130600@crgc.org
SUMMARY:New Member Orientation & Safety Tour
DESCRIPTION:Meet at the rifle range building
URL:https://crgc.org/event-2/new-member-orientation-safety-tour-5/
END:VEVENT
BEGIN:VEVENT
DTSTART;TZID=America/New_York:20250730T160000
DTEND;TZID=America/New_York:20250730T200000
DTSTAMP:20260422T181919
CREATED:20250423T164739Z
LAST-MODIFIED:20250427T224102Z
UID:10001448-1753891200-1753905600@crgc.org
SUMMARY:Sporting Clays - rifle & pistol are CLOSED
DESCRIPTION:Last group out at 7pm. \n10 stations\, 50 shots
URL:https://crgc.org/event-2/sporting-clays-rifle-is-closed-2/2025-07-30/
END:VEVENT
BEGIN:VEVENT
DTSTART;TZID=America/New_York:20250730T123000
DTEND;TZID=America/New_York:20250730T200000
DTSTAMP:20260422T181919
CREATED:20250423T165137Z
LAST-MODIFIED:20250424T130505Z
UID:10001475-1753878600-1753905600@crgc.org
SUMMARY:Pistol is closed
DESCRIPTION:Closed for a short time to reload Sporting Clays traps
URL:https://crgc.org/event-2/pistol-is-closed/2025-07-30/
END:VEVENT
BEGIN:VEVENT
DTSTART;TZID=America/New_York:20250730T100000
DTEND;TZID=America/New_York:20250730T140000
DTSTAMP:20260422T181920
CREATED:20250122T032744Z
LAST-MODIFIED:20250424T184945Z
UID:10000902-1753869600-1753884000@crgc.org
SUMMARY:Skeet & 5 stand  - rifle is CLOSED
DESCRIPTION:Rifle range is closed during these times.
URL:https://crgc.org/event-2/skeet-5-stand/2025-07-30/
END:VEVENT
BEGIN:VEVENT
DTSTART;TZID=America/New_York:20250729T163000
DTEND;TZID=America/New_York:20250729T200000
DTSTAMP:20260422T181920
CREATED:20250420T170911Z
LAST-MODIFIED:20250420T170913Z
UID:10001337-1753806600-1753819200@crgc.org
SUMMARY:Trap - singles PISTOL is CLOSED
DESCRIPTION:Trap is shot from the 16 yard pad.  Single. Look for special double trap events through out the year! \nPistol range is closed!
URL:https://crgc.org/event-2/trap-singles-2-2/2025-07-29/
END:VEVENT
BEGIN:VEVENT
DTSTART;TZID=America/New_York:20250728T170000
DTEND;TZID=America/New_York:20250728T200000
DTSTAMP:20260422T181920
CREATED:20250514T212455Z
LAST-MODIFIED:20250514T212455Z
UID:10001531-1753722000-1753732800@crgc.org
SUMMARY:Skeet & 5 Stand - rifle is CLOSED
DESCRIPTION:Rifle is closed during this time.
URL:https://crgc.org/event-2/skeet-5-stand-rifle-is-closed/2025-07-28/
END:VEVENT
BEGIN:VEVENT
DTSTART;TZID=America/New_York:20250727T090000
DTEND;TZID=America/New_York:20250727T150000
DTSTAMP:20260422T181920
CREATED:20250324T160038Z
LAST-MODIFIED:20250324T160641Z
UID:10001316-1753606800-1753628400@crgc.org
SUMMARY:Ladies Day!
DESCRIPTION:Contact Shari to register. 231-620-6902 or shariprevost71@gmail.com \nAll ranges are closed!
URL:https://crgc.org/event-2/ladies-day/
END:VEVENT
BEGIN:VEVENT
DTSTART;TZID=America/New_York:20250727T080000
DTEND;TZID=America/New_York:20250727T160000
DTSTAMP:20260422T181920
CREATED:20250727T110438Z
LAST-MODIFIED:20250727T110438Z
UID:10001597-1753603200-1753632000@crgc.org
SUMMARY:All ranges are CLOSED for a special event until 4pm!
DESCRIPTION:Pistol & rifle are CLOSED!
URL:https://crgc.org/event-2/all-ranges-are-closed-for-a-special-event-until-4pm/
END:VEVENT
BEGIN:VEVENT
DTSTART;TZID=America/New_York:20250726T100000
DTEND;TZID=America/New_York:20250726T150000
DTSTAMP:20260422T181920
CREATED:20250423T164109Z
LAST-MODIFIED:20250520T140552Z
UID:10001505-1753524000-1753542000@crgc.org
SUMMARY:Sporting Clays - rifle & pistol are CLOSED
DESCRIPTION:Last group out at 2pm. \n10 stations\, 50 shots
URL:https://crgc.org/event-2/sporting-clays-rifle-is-closed/2025-07-26/
END:VEVENT
BEGIN:VEVENT
DTSTART;TZID=America/New_York:20250723T160000
DTEND;TZID=America/New_York:20250723T200000
DTSTAMP:20260422T181920
CREATED:20250423T164739Z
LAST-MODIFIED:20250427T224102Z
UID:10001447-1753286400-1753300800@crgc.org
SUMMARY:Sporting Clays - rifle & pistol are CLOSED
DESCRIPTION:Last group out at 7pm. \n10 stations\, 50 shots
URL:https://crgc.org/event-2/sporting-clays-rifle-is-closed-2/2025-07-23/
END:VEVENT
BEGIN:VEVENT
DTSTART;TZID=America/New_York:20250723T123000
DTEND;TZID=America/New_York:20250723T200000
DTSTAMP:20260422T181920
CREATED:20250423T165137Z
LAST-MODIFIED:20250424T130505Z
UID:10001474-1753273800-1753300800@crgc.org
SUMMARY:Pistol is closed
DESCRIPTION:Closed for a short time to reload Sporting Clays traps
URL:https://crgc.org/event-2/pistol-is-closed/2025-07-23/
END:VEVENT
BEGIN:VEVENT
DTSTART;TZID=America/New_York:20250723T100000
DTEND;TZID=America/New_York:20250723T140000
DTSTAMP:20260422T181920
CREATED:20250122T032744Z
LAST-MODIFIED:20250424T184945Z
UID:10000901-1753264800-1753279200@crgc.org
SUMMARY:Skeet & 5 stand  - rifle is CLOSED
DESCRIPTION:Rifle range is closed during these times.
URL:https://crgc.org/event-2/skeet-5-stand/2025-07-23/
END:VEVENT
BEGIN:VEVENT
DTSTART;TZID=America/New_York:20250722T163000
DTEND;TZID=America/New_York:20250722T200000
DTSTAMP:20260422T181920
CREATED:20250420T170911Z
LAST-MODIFIED:20250420T170913Z
UID:10001336-1753201800-1753214400@crgc.org
SUMMARY:Trap - singles PISTOL is CLOSED
DESCRIPTION:Trap is shot from the 16 yard pad.  Single. Look for special double trap events through out the year! \nPistol range is closed!
URL:https://crgc.org/event-2/trap-singles-2-2/2025-07-22/
END:VEVENT
BEGIN:VEVENT
DTSTART;TZID=America/New_York:20250721T170000
DTEND;TZID=America/New_York:20250721T200000
DTSTAMP:20260422T181920
CREATED:20250514T212455Z
LAST-MODIFIED:20250514T212455Z
UID:10001530-1753117200-1753128000@crgc.org
SUMMARY:Skeet & 5 Stand - rifle is CLOSED
DESCRIPTION:Rifle is closed during this time.
URL:https://crgc.org/event-2/skeet-5-stand-rifle-is-closed/2025-07-21/
END:VEVENT
BEGIN:VEVENT
DTSTART;TZID=America/New_York:20250719T100000
DTEND;TZID=America/New_York:20250719T150000
DTSTAMP:20260422T181920
CREATED:20250423T164109Z
LAST-MODIFIED:20250520T140552Z
UID:10001504-1752919200-1752937200@crgc.org
SUMMARY:Sporting Clays - rifle & pistol are CLOSED
DESCRIPTION:Last group out at 2pm. \n10 stations\, 50 shots
URL:https://crgc.org/event-2/sporting-clays-rifle-is-closed/2025-07-19/
END:VEVENT
BEGIN:VEVENT
DTSTART;TZID=America/New_York:20250716T160000
DTEND;TZID=America/New_York:20250716T200000
DTSTAMP:20260422T181920
CREATED:20250423T164739Z
LAST-MODIFIED:20250427T224102Z
UID:10001446-1752681600-1752696000@crgc.org
SUMMARY:Sporting Clays - rifle & pistol are CLOSED
DESCRIPTION:Last group out at 7pm. \n10 stations\, 50 shots
URL:https://crgc.org/event-2/sporting-clays-rifle-is-closed-2/2025-07-16/
END:VEVENT
BEGIN:VEVENT
DTSTART;TZID=America/New_York:20250716T123000
DTEND;TZID=America/New_York:20250716T200000
DTSTAMP:20260422T181920
CREATED:20250423T165137Z
LAST-MODIFIED:20250424T130505Z
UID:10001473-1752669000-1752696000@crgc.org
SUMMARY:Pistol is closed
DESCRIPTION:Closed for a short time to reload Sporting Clays traps
URL:https://crgc.org/event-2/pistol-is-closed/2025-07-16/
END:VEVENT
BEGIN:VEVENT
DTSTART;TZID=America/New_York:20250716T100000
DTEND;TZID=America/New_York:20250716T140000
DTSTAMP:20260422T181920
CREATED:20250122T032744Z
LAST-MODIFIED:20250424T184945Z
UID:10000900-1752660000-1752674400@crgc.org
SUMMARY:Skeet & 5 stand  - rifle is CLOSED
DESCRIPTION:Rifle range is closed during these times.
URL:https://crgc.org/event-2/skeet-5-stand/2025-07-16/
END:VEVENT
BEGIN:VEVENT
DTSTART;TZID=America/New_York:20250715T163000
DTEND;TZID=America/New_York:20250715T200000
DTSTAMP:20260422T181920
CREATED:20250420T170911Z
LAST-MODIFIED:20250420T170913Z
UID:10001335-1752597000-1752609600@crgc.org
SUMMARY:Trap - singles PISTOL is CLOSED
DESCRIPTION:Trap is shot from the 16 yard pad.  Single. Look for special double trap events through out the year! \nPistol range is closed!
URL:https://crgc.org/event-2/trap-singles-2-2/2025-07-15/
END:VEVENT
END:VCALENDAR