BEGIN:VCALENDAR
VERSION:2.0
PRODID:-//Cedar Rod and Gun Club - ECPv6.15.20//NONSGML v1.0//EN
CALSCALE:GREGORIAN
METHOD:PUBLISH
X-WR-CALNAME:Cedar Rod and Gun Club
X-ORIGINAL-URL:https://crgc.org
X-WR-CALDESC:Events for Cedar Rod and Gun Club
REFRESH-INTERVAL;VALUE=DURATION:PT1H
X-Robots-Tag:noindex
X-PUBLISHED-TTL:PT1H
BEGIN:VTIMEZONE
TZID:America/New_York
BEGIN:DAYLIGHT
TZOFFSETFROM:-0500
TZOFFSETTO:-0400
TZNAME:EDT
DTSTART:20240310T070000
END:DAYLIGHT
BEGIN:STANDARD
TZOFFSETFROM:-0400
TZOFFSETTO:-0500
TZNAME:EST
DTSTART:20241103T060000
END:STANDARD
BEGIN:DAYLIGHT
TZOFFSETFROM:-0500
TZOFFSETTO:-0400
TZNAME:EDT
DTSTART:20250309T070000
END:DAYLIGHT
BEGIN:STANDARD
TZOFFSETFROM:-0400
TZOFFSETTO:-0500
TZNAME:EST
DTSTART:20251102T060000
END:STANDARD
BEGIN:DAYLIGHT
TZOFFSETFROM:-0500
TZOFFSETTO:-0400
TZNAME:EDT
DTSTART:20260308T070000
END:DAYLIGHT
BEGIN:STANDARD
TZOFFSETFROM:-0400
TZOFFSETTO:-0500
TZNAME:EST
DTSTART:20261101T060000
END:STANDARD
END:VTIMEZONE
BEGIN:VEVENT
DTSTART;TZID=America/New_York:20250617T163000
DTEND;TZID=America/New_York:20250617T200000
DTSTAMP:20260422T185408
CREATED:20250420T170911Z
LAST-MODIFIED:20250420T170913Z
UID:10001331-1750177800-1750190400@crgc.org
SUMMARY:Trap - singles PISTOL is CLOSED
DESCRIPTION:Trap is shot from the 16 yard pad.  Single. Look for special double trap events through out the year! \nPistol range is closed!
URL:https://crgc.org/event-2/trap-singles-2-2/2025-06-17/
END:VEVENT
BEGIN:VEVENT
DTSTART;TZID=America/New_York:20250616T170000
DTEND;TZID=America/New_York:20250616T200000
DTSTAMP:20260422T185408
CREATED:20250514T212455Z
LAST-MODIFIED:20250514T212455Z
UID:10001525-1750093200-1750104000@crgc.org
SUMMARY:Skeet & 5 Stand - rifle is CLOSED
DESCRIPTION:Rifle is closed during this time.
URL:https://crgc.org/event-2/skeet-5-stand-rifle-is-closed/2025-06-16/
END:VEVENT
BEGIN:VEVENT
DTSTART;TZID=America/New_York:20250614T100000
DTEND;TZID=America/New_York:20250614T150000
DTSTAMP:20260422T185408
CREATED:20250423T164109Z
LAST-MODIFIED:20250520T140552Z
UID:10001499-1749895200-1749913200@crgc.org
SUMMARY:Sporting Clays - rifle & pistol are CLOSED
DESCRIPTION:Last group out at 2pm. \n10 stations\, 50 shots
URL:https://crgc.org/event-2/sporting-clays-rifle-is-closed/2025-06-14/
END:VEVENT
BEGIN:VEVENT
DTSTART;TZID=America/New_York:20250612T130000
DTEND;TZID=America/New_York:20250612T180000
DTSTAMP:20260422T185408
CREATED:20250415T004833Z
LAST-MODIFIED:20250527T122218Z
UID:10001403-1749733200-1749751200@crgc.org
SUMMARY:Rifle CLOSED - Private Event
DESCRIPTION:Rifle closed for private event.
URL:https://crgc.org/event-2/rifle-closed/
END:VEVENT
BEGIN:VEVENT
DTSTART;TZID=America/New_York:20250611T160000
DTEND;TZID=America/New_York:20250611T200000
DTSTAMP:20260422T185408
CREATED:20250423T164739Z
LAST-MODIFIED:20250427T224102Z
UID:10001441-1749657600-1749672000@crgc.org
SUMMARY:Sporting Clays - rifle & pistol are CLOSED
DESCRIPTION:Last group out at 7pm. \n10 stations\, 50 shots
URL:https://crgc.org/event-2/sporting-clays-rifle-is-closed-2/2025-06-11/
END:VEVENT
BEGIN:VEVENT
DTSTART;TZID=America/New_York:20250611T123000
DTEND;TZID=America/New_York:20250611T200000
DTSTAMP:20260422T185408
CREATED:20250423T165137Z
LAST-MODIFIED:20250424T130505Z
UID:10001468-1749645000-1749672000@crgc.org
SUMMARY:Pistol is closed
DESCRIPTION:Closed for a short time to reload Sporting Clays traps
URL:https://crgc.org/event-2/pistol-is-closed/2025-06-11/
END:VEVENT
BEGIN:VEVENT
DTSTART;TZID=America/New_York:20250611T100000
DTEND;TZID=America/New_York:20250611T140000
DTSTAMP:20260422T185408
CREATED:20250122T032744Z
LAST-MODIFIED:20250424T184945Z
UID:10000895-1749636000-1749650400@crgc.org
SUMMARY:Skeet & 5 stand  - rifle is CLOSED
DESCRIPTION:Rifle range is closed during these times.
URL:https://crgc.org/event-2/skeet-5-stand/2025-06-11/
END:VEVENT
BEGIN:VEVENT
DTSTART;TZID=America/New_York:20250610T163000
DTEND;TZID=America/New_York:20250610T200000
DTSTAMP:20260422T185408
CREATED:20250420T170911Z
LAST-MODIFIED:20250420T170913Z
UID:10001330-1749573000-1749585600@crgc.org
SUMMARY:Trap - singles PISTOL is CLOSED
DESCRIPTION:Trap is shot from the 16 yard pad.  Single. Look for special double trap events through out the year! \nPistol range is closed!
URL:https://crgc.org/event-2/trap-singles-2-2/2025-06-10/
END:VEVENT
BEGIN:VEVENT
DTSTART;TZID=America/New_York:20250609T170000
DTEND;TZID=America/New_York:20250609T200000
DTSTAMP:20260422T185408
CREATED:20250514T212455Z
LAST-MODIFIED:20250514T212455Z
UID:10001524-1749488400-1749499200@crgc.org
SUMMARY:Skeet & 5 Stand - rifle is CLOSED
DESCRIPTION:Rifle is closed during this time.
URL:https://crgc.org/event-2/skeet-5-stand-rifle-is-closed/2025-06-09/
END:VEVENT
BEGIN:VEVENT
DTSTART;TZID=America/New_York:20250608T090000
DTEND;TZID=America/New_York:20250608T150000
DTSTAMP:20260422T185408
CREATED:20250324T163358Z
LAST-MODIFIED:20250424T184320Z
UID:10001318-1749373200-1749394800@crgc.org
SUMMARY:Fieldsport 100 SxS shoot - rifle & pistol CLOSED
DESCRIPTION:Must shoot low gun.  Prizes and lunch.  Handicaps for sub gauges. \nContact Rick to register 231-492-2222 \nSporting clays range will be used for this so rifle range will not be open.
URL:https://crgc.org/event-2/fieldsport-100-sxs-shoot/
END:VEVENT
BEGIN:VEVENT
DTSTART;TZID=America/New_York:20250607T100000
DTEND;TZID=America/New_York:20250607T150000
DTSTAMP:20260422T185408
CREATED:20250423T164109Z
LAST-MODIFIED:20250520T140552Z
UID:10001498-1749290400-1749308400@crgc.org
SUMMARY:Sporting Clays - rifle & pistol are CLOSED
DESCRIPTION:Last group out at 2pm. \n10 stations\, 50 shots
URL:https://crgc.org/event-2/sporting-clays-rifle-is-closed/2025-06-07/
END:VEVENT
BEGIN:VEVENT
DTSTART;TZID=America/New_York:20250607T093000
DTEND;TZID=America/New_York:20250607T103000
DTSTAMP:20260422T185408
CREATED:20250324T155008Z
LAST-MODIFIED:20250324T155008Z
UID:10001312-1749288600-1749292200@crgc.org
SUMMARY:New Member Orientation & Safety Tour
DESCRIPTION:Meet at the rifle range building
URL:https://crgc.org/event-2/new-member-orientation-safety-tour-3/
END:VEVENT
BEGIN:VEVENT
DTSTART;TZID=America/New_York:20250604T160000
DTEND;TZID=America/New_York:20250604T200000
DTSTAMP:20260422T185408
CREATED:20250423T164739Z
LAST-MODIFIED:20250427T224102Z
UID:10001440-1749052800-1749067200@crgc.org
SUMMARY:Sporting Clays - rifle & pistol are CLOSED
DESCRIPTION:Last group out at 7pm. \n10 stations\, 50 shots
URL:https://crgc.org/event-2/sporting-clays-rifle-is-closed-2/2025-06-04/
END:VEVENT
BEGIN:VEVENT
DTSTART;TZID=America/New_York:20250604T123000
DTEND;TZID=America/New_York:20250604T200000
DTSTAMP:20260422T185408
CREATED:20250423T165137Z
LAST-MODIFIED:20250424T130505Z
UID:10001467-1749040200-1749067200@crgc.org
SUMMARY:Pistol is closed
DESCRIPTION:Closed for a short time to reload Sporting Clays traps
URL:https://crgc.org/event-2/pistol-is-closed/2025-06-04/
END:VEVENT
BEGIN:VEVENT
DTSTART;TZID=America/New_York:20250604T100000
DTEND;TZID=America/New_York:20250604T140000
DTSTAMP:20260422T185408
CREATED:20250122T032744Z
LAST-MODIFIED:20250424T184945Z
UID:10000894-1749031200-1749045600@crgc.org
SUMMARY:Skeet & 5 stand  - rifle is CLOSED
DESCRIPTION:Rifle range is closed during these times.
URL:https://crgc.org/event-2/skeet-5-stand/2025-06-04/
END:VEVENT
BEGIN:VEVENT
DTSTART;TZID=America/New_York:20250603T163000
DTEND;TZID=America/New_York:20250603T200000
DTSTAMP:20260422T185408
CREATED:20250420T170911Z
LAST-MODIFIED:20250420T170913Z
UID:10001329-1748968200-1748980800@crgc.org
SUMMARY:Trap - singles PISTOL is CLOSED
DESCRIPTION:Trap is shot from the 16 yard pad.  Single. Look for special double trap events through out the year! \nPistol range is closed!
URL:https://crgc.org/event-2/trap-singles-2-2/2025-06-03/
END:VEVENT
BEGIN:VEVENT
DTSTART;TZID=America/New_York:20250602T170000
DTEND;TZID=America/New_York:20250602T200000
DTSTAMP:20260422T185408
CREATED:20250514T212455Z
LAST-MODIFIED:20250514T212455Z
UID:10001523-1748883600-1748894400@crgc.org
SUMMARY:Skeet & 5 Stand - rifle is CLOSED
DESCRIPTION:Rifle is closed during this time.
URL:https://crgc.org/event-2/skeet-5-stand-rifle-is-closed/2025-06-02/
END:VEVENT
BEGIN:VEVENT
DTSTART;TZID=America/New_York:20250601T120000
DTEND;TZID=America/New_York:20250601T163000
DTSTAMP:20260422T185408
CREATED:20250313T013846Z
LAST-MODIFIED:20250424T184524Z
UID:10001308-1748779200-1748795400@crgc.org
SUMMARY:Youth Trap League - rifle & pistol are CLOSED
DESCRIPTION:Pistol and Rifle ranges are closed during these times.
URL:https://crgc.org/event-2/youth-trap-league/2025-06-01/
END:VEVENT
BEGIN:VEVENT
DTSTART;TZID=America/New_York:20250531T100000
DTEND;TZID=America/New_York:20250531T150000
DTSTAMP:20260422T185408
CREATED:20250423T164109Z
LAST-MODIFIED:20250520T140552Z
UID:10001497-1748685600-1748703600@crgc.org
SUMMARY:Sporting Clays - rifle & pistol are CLOSED
DESCRIPTION:Last group out at 2pm. \n10 stations\, 50 shots
URL:https://crgc.org/event-2/sporting-clays-rifle-is-closed/2025-05-31/
END:VEVENT
BEGIN:VEVENT
DTSTART;TZID=America/New_York:20250528T160000
DTEND;TZID=America/New_York:20250528T200000
DTSTAMP:20260422T185408
CREATED:20250423T164739Z
LAST-MODIFIED:20250427T224102Z
UID:10001439-1748448000-1748462400@crgc.org
SUMMARY:Sporting Clays - rifle & pistol are CLOSED
DESCRIPTION:Last group out at 7pm. \n10 stations\, 50 shots
URL:https://crgc.org/event-2/sporting-clays-rifle-is-closed-2/2025-05-28/
END:VEVENT
BEGIN:VEVENT
DTSTART;TZID=America/New_York:20250528T123000
DTEND;TZID=America/New_York:20250528T200000
DTSTAMP:20260422T185408
CREATED:20250423T165137Z
LAST-MODIFIED:20250424T130505Z
UID:10001466-1748435400-1748462400@crgc.org
SUMMARY:Pistol is closed
DESCRIPTION:Closed for a short time to reload Sporting Clays traps
URL:https://crgc.org/event-2/pistol-is-closed/2025-05-28/
END:VEVENT
BEGIN:VEVENT
DTSTART;TZID=America/New_York:20250528T100000
DTEND;TZID=America/New_York:20250528T140000
DTSTAMP:20260422T185408
CREATED:20250122T032744Z
LAST-MODIFIED:20250424T184945Z
UID:10000893-1748426400-1748440800@crgc.org
SUMMARY:Skeet & 5 stand  - rifle is CLOSED
DESCRIPTION:Rifle range is closed during these times.
URL:https://crgc.org/event-2/skeet-5-stand/2025-05-28/
END:VEVENT
BEGIN:VEVENT
DTSTART;TZID=America/New_York:20250527T163000
DTEND;TZID=America/New_York:20250527T200000
DTSTAMP:20260422T185408
CREATED:20250420T170911Z
LAST-MODIFIED:20250420T170913Z
UID:10001328-1748363400-1748376000@crgc.org
SUMMARY:Trap - singles PISTOL is CLOSED
DESCRIPTION:Trap is shot from the 16 yard pad.  Single. Look for special double trap events through out the year! \nPistol range is closed!
URL:https://crgc.org/event-2/trap-singles-2-2/2025-05-27/
END:VEVENT
BEGIN:VEVENT
DTSTART;TZID=America/New_York:20250526T170000
DTEND;TZID=America/New_York:20250526T200000
DTSTAMP:20260422T185408
CREATED:20250514T212455Z
LAST-MODIFIED:20250514T212455Z
UID:10001522-1748278800-1748289600@crgc.org
SUMMARY:Skeet & 5 Stand - rifle is CLOSED
DESCRIPTION:Rifle is closed during this time.
URL:https://crgc.org/event-2/skeet-5-stand-rifle-is-closed/2025-05-26/
END:VEVENT
BEGIN:VEVENT
DTSTART;TZID=America/New_York:20250525T120000
DTEND;TZID=America/New_York:20250525T163000
DTSTAMP:20260422T185408
CREATED:20250313T013846Z
LAST-MODIFIED:20250424T184524Z
UID:10001307-1748174400-1748190600@crgc.org
SUMMARY:Youth Trap League - rifle & pistol are CLOSED
DESCRIPTION:Pistol and Rifle ranges are closed during these times.
URL:https://crgc.org/event-2/youth-trap-league/2025-05-25/
END:VEVENT
BEGIN:VEVENT
DTSTART;TZID=America/New_York:20250524T100000
DTEND;TZID=America/New_York:20250524T150000
DTSTAMP:20260422T185408
CREATED:20250423T164109Z
LAST-MODIFIED:20250520T140552Z
UID:10001496-1748080800-1748098800@crgc.org
SUMMARY:Sporting Clays - rifle & pistol are CLOSED
DESCRIPTION:Last group out at 2pm. \n10 stations\, 50 shots
URL:https://crgc.org/event-2/sporting-clays-rifle-is-closed/2025-05-24/
END:VEVENT
BEGIN:VEVENT
DTSTART;TZID=America/New_York:20250521T160000
DTEND;TZID=America/New_York:20250521T200000
DTSTAMP:20260422T185408
CREATED:20250423T164739Z
LAST-MODIFIED:20250427T224102Z
UID:10001438-1747843200-1747857600@crgc.org
SUMMARY:Sporting Clays - rifle & pistol are CLOSED
DESCRIPTION:Last group out at 7pm. \n10 stations\, 50 shots
URL:https://crgc.org/event-2/sporting-clays-rifle-is-closed-2/2025-05-21/
END:VEVENT
BEGIN:VEVENT
DTSTART;TZID=America/New_York:20250521T123000
DTEND;TZID=America/New_York:20250521T200000
DTSTAMP:20260422T185408
CREATED:20250423T165137Z
LAST-MODIFIED:20250424T130505Z
UID:10001465-1747830600-1747857600@crgc.org
SUMMARY:Pistol is closed
DESCRIPTION:Closed for a short time to reload Sporting Clays traps
URL:https://crgc.org/event-2/pistol-is-closed/2025-05-21/
END:VEVENT
BEGIN:VEVENT
DTSTART;TZID=America/New_York:20250521T100000
DTEND;TZID=America/New_York:20250521T140000
DTSTAMP:20260422T185408
CREATED:20250122T032744Z
LAST-MODIFIED:20250424T184945Z
UID:10000892-1747821600-1747836000@crgc.org
SUMMARY:Skeet & 5 stand  - rifle is CLOSED
DESCRIPTION:Rifle range is closed during these times.
URL:https://crgc.org/event-2/skeet-5-stand/2025-05-21/
END:VEVENT
BEGIN:VEVENT
DTSTART;TZID=America/New_York:20250520T163000
DTEND;TZID=America/New_York:20250520T200000
DTSTAMP:20260422T185408
CREATED:20250420T170911Z
LAST-MODIFIED:20250420T170913Z
UID:10001327-1747758600-1747771200@crgc.org
SUMMARY:Trap - singles PISTOL is CLOSED
DESCRIPTION:Trap is shot from the 16 yard pad.  Single. Look for special double trap events through out the year! \nPistol range is closed!
URL:https://crgc.org/event-2/trap-singles-2-2/2025-05-20/
END:VEVENT
END:VCALENDAR