BEGIN:VCALENDAR
VERSION:2.0
PRODID:-//Cedar Rod and Gun Club - ECPv6.15.20//NONSGML v1.0//EN
CALSCALE:GREGORIAN
METHOD:PUBLISH
X-ORIGINAL-URL:https://crgc.org
X-WR-CALDESC:Events for Cedar Rod and Gun Club
REFRESH-INTERVAL;VALUE=DURATION:PT1H
X-Robots-Tag:noindex
X-PUBLISHED-TTL:PT1H
BEGIN:VTIMEZONE
TZID:America/New_York
BEGIN:DAYLIGHT
TZOFFSETFROM:-0500
TZOFFSETTO:-0400
TZNAME:EDT
DTSTART:20250309T070000
END:DAYLIGHT
BEGIN:STANDARD
TZOFFSETFROM:-0400
TZOFFSETTO:-0500
TZNAME:EST
DTSTART:20251102T060000
END:STANDARD
BEGIN:DAYLIGHT
TZOFFSETFROM:-0500
TZOFFSETTO:-0400
TZNAME:EDT
DTSTART:20260308T070000
END:DAYLIGHT
BEGIN:STANDARD
TZOFFSETFROM:-0400
TZOFFSETTO:-0500
TZNAME:EST
DTSTART:20261101T060000
END:STANDARD
BEGIN:DAYLIGHT
TZOFFSETFROM:-0500
TZOFFSETTO:-0400
TZNAME:EDT
DTSTART:20270314T070000
END:DAYLIGHT
BEGIN:STANDARD
TZOFFSETFROM:-0400
TZOFFSETTO:-0500
TZNAME:EST
DTSTART:20271107T060000
END:STANDARD
END:VTIMEZONE
BEGIN:VEVENT
DTSTART;TZID=America/New_York:20260802T100000
DTEND;TZID=America/New_York:20260802T150000
DTSTAMP:20260421T220232
CREATED:20260418T194715Z
LAST-MODIFIED:20260418T194715Z
UID:10001853-1785664800-1785682800@crgc.org
SUMMARY:August 2nd CRGC Annual Breakfast Sporting Clay Shoot - $50
DESCRIPTION:You’re only shooting against yourself\, hit special-colored birds\, win breakfast food! Lunch included
URL:https://crgc.org/event-2/august-2nd-crgc-annual-breakfast-sporting-clay-shoot-50/
END:VEVENT
BEGIN:VEVENT
DTSTART;TZID=America/New_York:20260823T100000
DTEND;TZID=America/New_York:20260823T150000
DTSTAMP:20260421T220232
CREATED:20260418T195107Z
LAST-MODIFIED:20260418T195107Z
UID:10001854-1787479200-1787497200@crgc.org
SUMMARY:August 23rd Jim Westlake Memorial Doubles Shoot - $60
DESCRIPTION:Our annual doubles shoot against Manton (Shoot at Action Shooting Sports on August 22nd). This was Jim Westlake’s favorite shoot. Come out and shoot doubles and support our club! Lunch included.
URL:https://crgc.org/event-2/august-23rd-jim-westlake-memorial-doubles-shoot-60/
END:VEVENT
END:VCALENDAR