BEGIN:VCALENDAR
VERSION:2.0
PRODID:-//Cedar Rod and Gun Club - ECPv6.15.20//NONSGML v1.0//EN
CALSCALE:GREGORIAN
METHOD:PUBLISH
X-WR-CALNAME:Cedar Rod and Gun Club
X-ORIGINAL-URL:https://crgc.org
X-WR-CALDESC:Events for Cedar Rod and Gun Club
REFRESH-INTERVAL;VALUE=DURATION:PT1H
X-Robots-Tag:noindex
X-PUBLISHED-TTL:PT1H
BEGIN:VTIMEZONE
TZID:America/New_York
BEGIN:DAYLIGHT
TZOFFSETFROM:-0500
TZOFFSETTO:-0400
TZNAME:EDT
DTSTART:20240310T070000
END:DAYLIGHT
BEGIN:STANDARD
TZOFFSETFROM:-0400
TZOFFSETTO:-0500
TZNAME:EST
DTSTART:20241103T060000
END:STANDARD
BEGIN:DAYLIGHT
TZOFFSETFROM:-0500
TZOFFSETTO:-0400
TZNAME:EDT
DTSTART:20250309T070000
END:DAYLIGHT
BEGIN:STANDARD
TZOFFSETFROM:-0400
TZOFFSETTO:-0500
TZNAME:EST
DTSTART:20251102T060000
END:STANDARD
BEGIN:DAYLIGHT
TZOFFSETFROM:-0500
TZOFFSETTO:-0400
TZNAME:EDT
DTSTART:20260308T070000
END:DAYLIGHT
BEGIN:STANDARD
TZOFFSETFROM:-0400
TZOFFSETTO:-0500
TZNAME:EST
DTSTART:20261101T060000
END:STANDARD
BEGIN:DAYLIGHT
TZOFFSETFROM:-0500
TZOFFSETTO:-0400
TZNAME:EDT
DTSTART:20270314T070000
END:DAYLIGHT
BEGIN:STANDARD
TZOFFSETFROM:-0400
TZOFFSETTO:-0500
TZNAME:EST
DTSTART:20271107T060000
END:STANDARD
END:VTIMEZONE
BEGIN:VEVENT
DTSTART;TZID=America/New_York:20260415T100000
DTEND;TZID=America/New_York:20260415T140000
DTSTAMP:20260421T140405
CREATED:20260311T001038Z
LAST-MODIFIED:20260311T022921Z
UID:10001784-1776247200-1776261600@crgc.org
SUMMARY:5 Stand & Skeet - RIFLE is closed
DESCRIPTION:5 Stand and Skeet are open but RILFE is closed until 1 hour after this time slot+
URL:https://crgc.org/event-2/5-stand-sheet-rifle-is-closed/2026-04-15/
END:VEVENT
BEGIN:VEVENT
DTSTART;TZID=America/New_York:20260408T100000
DTEND;TZID=America/New_York:20260408T140000
DTSTAMP:20260421T140405
CREATED:20260311T001038Z
LAST-MODIFIED:20260311T022921Z
UID:10001783-1775642400-1775656800@crgc.org
SUMMARY:5 Stand & Skeet - RIFLE is closed
DESCRIPTION:5 Stand and Skeet are open but RILFE is closed until 1 hour after this time slot+
URL:https://crgc.org/event-2/5-stand-sheet-rifle-is-closed/2026-04-08/
END:VEVENT
BEGIN:VEVENT
DTSTART;TZID=America/New_York:20260401T100000
DTEND;TZID=America/New_York:20260401T140000
DTSTAMP:20260421T140405
CREATED:20260311T001038Z
LAST-MODIFIED:20260311T022921Z
UID:10001782-1775037600-1775052000@crgc.org
SUMMARY:5 Stand & Skeet - RIFLE is closed
DESCRIPTION:5 Stand and Skeet are open but RILFE is closed until 1 hour after this time slot+
URL:https://crgc.org/event-2/5-stand-sheet-rifle-is-closed/2026-04-01/
END:VEVENT
BEGIN:VEVENT
DTSTART;TZID=America/New_York:20260314T100000
DTEND;TZID=America/New_York:20260314T140000
DTSTAMP:20260421T140405
CREATED:20251218T151328Z
LAST-MODIFIED:20260302T234605Z
UID:10001778-1773482400-1773496800@crgc.org
SUMMARY:Opening Day Saint Patties Shoot
DESCRIPTION:Skeet and 5 Stand \nGates open at 930am\, shooting starts at 10am.
URL:https://crgc.org/event-2/opening-day-saint-patties-shoot/
END:VEVENT
BEGIN:VEVENT
DTSTART;TZID=America/New_York:20260116T180000
DTEND;TZID=America/New_York:20260116T200000
DTSTAMP:20260421T140405
CREATED:20251213T221649Z
LAST-MODIFIED:20251213T221649Z
UID:10001776-1768586400-1768593600@crgc.org
SUMMARY:Annual Members Meeting
DESCRIPTION:6-7pm meet and greet.  Meeting starts at 7pm to elect new officers and general club updates.
URL:https://crgc.org/event-2/annual-members-meeting/
END:VEVENT
BEGIN:VEVENT
DTSTART;TZID=America/New_York:20251210T100000
DTEND;TZID=America/New_York:20251210T140000
DTSTAMP:20260421T140405
CREATED:20251210T025303Z
LAST-MODIFIED:20251210T025304Z
UID:10000921-1765360800-1765375200@crgc.org
SUMMARY:LAST DAY for Skeet & 5 stand  - rifle is CLOSED
DESCRIPTION:Rifle range is closed during these times.
URL:https://crgc.org/event-2/skeet-5-stand-3/2025-12-10/
END:VEVENT
BEGIN:VEVENT
DTSTART;TZID=America/New_York:20251206T100000
DTEND;TZID=America/New_York:20251206T140000
DTSTAMP:20260421T140405
CREATED:20251027T134001Z
LAST-MODIFIED:20251027T134002Z
UID:10001615-1765015200-1765029600@crgc.org
SUMMARY:Skeet & 5 Stand - Rifle is CLOSED until 3pm!
DESCRIPTION:Rifle is CLOSED until 3pm!
URL:https://crgc.org/event-2/pistol-rifle-are-closed-until-5pm-2/2025-12-06/
END:VEVENT
BEGIN:VEVENT
DTSTART;TZID=America/New_York:20251203T100000
DTEND;TZID=America/New_York:20251203T140000
DTSTAMP:20260421T140405
CREATED:20250122T032744Z
LAST-MODIFIED:20250424T184945Z
UID:10000920-1764756000-1764770400@crgc.org
SUMMARY:Skeet & 5 stand  - rifle is CLOSED
DESCRIPTION:Rifle range is closed during these times.
URL:https://crgc.org/event-2/skeet-5-stand/2025-12-03/
END:VEVENT
BEGIN:VEVENT
DTSTART;TZID=America/New_York:20251129T100000
DTEND;TZID=America/New_York:20251129T140000
DTSTAMP:20260421T140405
CREATED:20251027T134001Z
LAST-MODIFIED:20251027T134002Z
UID:10001614-1764410400-1764424800@crgc.org
SUMMARY:Skeet & 5 Stand - Rifle is CLOSED until 3pm!
DESCRIPTION:Rifle is CLOSED until 3pm!
URL:https://crgc.org/event-2/pistol-rifle-are-closed-until-5pm-2/2025-11-29/
END:VEVENT
BEGIN:VEVENT
DTSTART;TZID=America/New_York:20251126T100000
DTEND;TZID=America/New_York:20251126T140000
DTSTAMP:20260421T140405
CREATED:20250122T032744Z
LAST-MODIFIED:20250424T184945Z
UID:10000919-1764151200-1764165600@crgc.org
SUMMARY:Skeet & 5 stand  - rifle is CLOSED
DESCRIPTION:Rifle range is closed during these times.
URL:https://crgc.org/event-2/skeet-5-stand/2025-11-26/
END:VEVENT
BEGIN:VEVENT
DTSTART;TZID=America/New_York:20251125T100000
DTEND;TZID=America/New_York:20251130T160000
DTSTAMP:20260421T140405
CREATED:20251125T153956Z
LAST-MODIFIED:20251125T154037Z
UID:10001775-1764064800-1764518400@crgc.org
SUMMARY:Pistol and Rifle are CLOSED after 4pm!
DESCRIPTION:Rifle is CLOSED during Skeet and 5 Stand times.
URL:https://crgc.org/event-2/pistol-and-rifle-are-closed-after-4pm/
END:VEVENT
BEGIN:VEVENT
DTSTART;TZID=America/New_York:20251122T100000
DTEND;TZID=America/New_York:20251122T140000
DTSTAMP:20260421T140405
CREATED:20251027T134001Z
LAST-MODIFIED:20251027T134002Z
UID:10001613-1763805600-1763820000@crgc.org
SUMMARY:Skeet & 5 Stand - Rifle is CLOSED until 3pm!
DESCRIPTION:Rifle is CLOSED until 3pm!
URL:https://crgc.org/event-2/pistol-rifle-are-closed-until-5pm-2/2025-11-22/
END:VEVENT
BEGIN:VEVENT
DTSTART;TZID=America/New_York:20251119T100000
DTEND;TZID=America/New_York:20251119T140000
DTSTAMP:20260421T140405
CREATED:20250122T032744Z
LAST-MODIFIED:20250424T184945Z
UID:10000918-1763546400-1763560800@crgc.org
SUMMARY:Skeet & 5 stand  - rifle is CLOSED
DESCRIPTION:Rifle range is closed during these times.
URL:https://crgc.org/event-2/skeet-5-stand/2025-11-19/
END:VEVENT
BEGIN:VEVENT
DTSTART;VALUE=DATE:20251115
DTEND;VALUE=DATE:20251117
DTSTAMP:20260421T140405
CREATED:20251031T143638Z
LAST-MODIFIED:20251031T143905Z
UID:10001612-1763164800-1763337599@crgc.org
SUMMARY:Rifle & Pistol are CLOSED ALL DAY!  Opening day for deer season
DESCRIPTION:
URL:https://crgc.org/event-2/pistol-rifle-are-closed-until-5pm-2-2/
END:VEVENT
BEGIN:VEVENT
DTSTART;TZID=America/New_York:20251112T100000
DTEND;TZID=America/New_York:20251112T140000
DTSTAMP:20260421T140405
CREATED:20250122T032744Z
LAST-MODIFIED:20250424T184945Z
UID:10000917-1762941600-1762956000@crgc.org
SUMMARY:Skeet & 5 stand  - rifle is CLOSED
DESCRIPTION:Rifle range is closed during these times.
URL:https://crgc.org/event-2/skeet-5-stand/2025-11-12/
END:VEVENT
BEGIN:VEVENT
DTSTART;TZID=America/New_York:20251108T100000
DTEND;TZID=America/New_York:20251108T140000
DTSTAMP:20260421T140405
CREATED:20251027T134001Z
LAST-MODIFIED:20251027T134002Z
UID:10001611-1762596000-1762610400@crgc.org
SUMMARY:Skeet & 5 Stand - Rifle is CLOSED until 3pm!
DESCRIPTION:Rifle is CLOSED until 3pm!
URL:https://crgc.org/event-2/pistol-rifle-are-closed-until-5pm-2/2025-11-08/
END:VEVENT
BEGIN:VEVENT
DTSTART;TZID=America/New_York:20251105T100000
DTEND;TZID=America/New_York:20251105T140000
DTSTAMP:20260421T140405
CREATED:20250122T032744Z
LAST-MODIFIED:20250424T184945Z
UID:10000916-1762336800-1762351200@crgc.org
SUMMARY:Skeet & 5 stand  - rifle is CLOSED
DESCRIPTION:Rifle range is closed during these times.
URL:https://crgc.org/event-2/skeet-5-stand/2025-11-05/
END:VEVENT
BEGIN:VEVENT
DTSTART;TZID=America/New_York:20251101T100000
DTEND;TZID=America/New_York:20251101T170000
DTSTAMP:20260421T140405
CREATED:20250831T114412Z
LAST-MODIFIED:20250831T114412Z
UID:10001610-1761991200-1762016400@crgc.org
SUMMARY:Pistol & Rifle are CLOSED until 5pm!
DESCRIPTION:Pistol & Rifle are CLOSED until 5pm!
URL:https://crgc.org/event-2/pistol-rifle-are-closed-until-5pm/2025-11-01/
END:VEVENT
BEGIN:VEVENT
DTSTART;TZID=America/New_York:20251101T100000
DTEND;TZID=America/New_York:20251101T150000
DTSTAMP:20260421T140405
CREATED:20251027T131215Z
LAST-MODIFIED:20251027T131215Z
UID:10001519-1761991200-1762009200@crgc.org
SUMMARY:LAST DAY for Sporting Clays - rifle & pistol are CLOSED
DESCRIPTION:Last group out at 2pm. \n10 stations\, 50 shots
URL:https://crgc.org/event-2/sporting-clays-rifle-is-closed-3/
END:VEVENT
BEGIN:VEVENT
DTSTART;TZID=America/New_York:20251101T093000
DTEND;TZID=America/New_York:20251101T103000
DTSTAMP:20260421T140405
CREATED:20250915T153335Z
LAST-MODIFIED:20250915T153823Z
UID:10001668-1761989400-1761993000@crgc.org
SUMMARY:New Member Orientation & Safety Tour
DESCRIPTION:
URL:https://crgc.org/event-2/new-member-orientation-safety-tour-8/
END:VEVENT
BEGIN:VEVENT
DTSTART;TZID=America/New_York:20251029T160000
DTEND;TZID=America/New_York:20251029T200000
DTSTAMP:20260421T140405
CREATED:20250423T164739Z
LAST-MODIFIED:20250427T224102Z
UID:10001461-1761753600-1761768000@crgc.org
SUMMARY:Sporting Clays - rifle & pistol are CLOSED
DESCRIPTION:Last group out at 7pm. \n10 stations\, 50 shots
URL:https://crgc.org/event-2/sporting-clays-rifle-is-closed-2/2025-10-29/
END:VEVENT
BEGIN:VEVENT
DTSTART;TZID=America/New_York:20251029T123000
DTEND;TZID=America/New_York:20251029T200000
DTSTAMP:20260421T140405
CREATED:20250423T165137Z
LAST-MODIFIED:20250424T130505Z
UID:10001488-1761741000-1761768000@crgc.org
SUMMARY:Pistol is closed
DESCRIPTION:Closed for a short time to reload Sporting Clays traps
URL:https://crgc.org/event-2/pistol-is-closed/2025-10-29/
END:VEVENT
BEGIN:VEVENT
DTSTART;TZID=America/New_York:20251029T100000
DTEND;TZID=America/New_York:20251029T140000
DTSTAMP:20260421T140405
CREATED:20250122T032744Z
LAST-MODIFIED:20250424T184945Z
UID:10000915-1761732000-1761746400@crgc.org
SUMMARY:Skeet & 5 stand  - rifle is CLOSED
DESCRIPTION:Rifle range is closed during these times.
URL:https://crgc.org/event-2/skeet-5-stand/2025-10-29/
END:VEVENT
BEGIN:VEVENT
DTSTART;TZID=America/New_York:20251028T163000
DTEND;TZID=America/New_York:20251028T200000
DTSTAMP:20260421T140405
CREATED:20251027T131021Z
LAST-MODIFIED:20251027T131021Z
UID:10001350-1761669000-1761681600@crgc.org
SUMMARY:LAST DAY for Trap - singles PISTOL is CLOSED
DESCRIPTION:Trap is shot from the 16 yard pad.  Single. Look for special double trap events through out the year! \nPistol range is closed!
URL:https://crgc.org/event-2/trap-singles-2-2-2/
END:VEVENT
BEGIN:VEVENT
DTSTART;TZID=America/New_York:20251027T170000
DTEND;TZID=America/New_York:20251027T200000
DTSTAMP:20260421T140405
CREATED:20250514T212455Z
LAST-MODIFIED:20250514T212455Z
UID:10001544-1761584400-1761595200@crgc.org
SUMMARY:Skeet & 5 Stand - rifle is CLOSED
DESCRIPTION:Rifle is closed during this time.
URL:https://crgc.org/event-2/skeet-5-stand-rifle-is-closed/2025-10-27/
END:VEVENT
BEGIN:VEVENT
DTSTART;TZID=America/New_York:20251025T100000
DTEND;TZID=America/New_York:20251025T170000
DTSTAMP:20260421T140405
CREATED:20250831T114412Z
LAST-MODIFIED:20250831T114412Z
UID:10001609-1761386400-1761411600@crgc.org
SUMMARY:Pistol & Rifle are CLOSED until 5pm!
DESCRIPTION:Pistol & Rifle are CLOSED until 5pm!
URL:https://crgc.org/event-2/pistol-rifle-are-closed-until-5pm/2025-10-25/
END:VEVENT
BEGIN:VEVENT
DTSTART;TZID=America/New_York:20251025T100000
DTEND;TZID=America/New_York:20251025T150000
DTSTAMP:20260421T140405
CREATED:20250423T164109Z
LAST-MODIFIED:20250520T140552Z
UID:10001518-1761386400-1761404400@crgc.org
SUMMARY:Sporting Clays - rifle & pistol are CLOSED
DESCRIPTION:Last group out at 2pm. \n10 stations\, 50 shots
URL:https://crgc.org/event-2/sporting-clays-rifle-is-closed/2025-10-25/
END:VEVENT
BEGIN:VEVENT
DTSTART;TZID=America/New_York:20251022T160000
DTEND;TZID=America/New_York:20251022T200000
DTSTAMP:20260421T140405
CREATED:20250423T164739Z
LAST-MODIFIED:20250427T224102Z
UID:10001460-1761148800-1761163200@crgc.org
SUMMARY:Sporting Clays - rifle & pistol are CLOSED
DESCRIPTION:Last group out at 7pm. \n10 stations\, 50 shots
URL:https://crgc.org/event-2/sporting-clays-rifle-is-closed-2/2025-10-22/
END:VEVENT
BEGIN:VEVENT
DTSTART;TZID=America/New_York:20251022T123000
DTEND;TZID=America/New_York:20251022T200000
DTSTAMP:20260421T140405
CREATED:20250423T165137Z
LAST-MODIFIED:20250424T130505Z
UID:10001487-1761136200-1761163200@crgc.org
SUMMARY:Pistol is closed
DESCRIPTION:Closed for a short time to reload Sporting Clays traps
URL:https://crgc.org/event-2/pistol-is-closed/2025-10-22/
END:VEVENT
BEGIN:VEVENT
DTSTART;TZID=America/New_York:20251022T100000
DTEND;TZID=America/New_York:20251022T140000
DTSTAMP:20260421T140405
CREATED:20250122T032744Z
LAST-MODIFIED:20250424T184945Z
UID:10000914-1761127200-1761141600@crgc.org
SUMMARY:Skeet & 5 stand  - rifle is CLOSED
DESCRIPTION:Rifle range is closed during these times.
URL:https://crgc.org/event-2/skeet-5-stand/2025-10-22/
END:VEVENT
END:VCALENDAR