BEGIN:VCALENDAR
VERSION:2.0
PRODID:-//Cedar Rod and Gun Club - ECPv6.15.20//NONSGML v1.0//EN
CALSCALE:GREGORIAN
METHOD:PUBLISH
X-WR-CALNAME:Cedar Rod and Gun Club
X-ORIGINAL-URL:https://crgc.org
X-WR-CALDESC:Events for Cedar Rod and Gun Club
REFRESH-INTERVAL;VALUE=DURATION:PT1H
X-Robots-Tag:noindex
X-PUBLISHED-TTL:PT1H
BEGIN:VTIMEZONE
TZID:America/New_York
BEGIN:DAYLIGHT
TZOFFSETFROM:-0500
TZOFFSETTO:-0400
TZNAME:EDT
DTSTART:20250309T070000
END:DAYLIGHT
BEGIN:STANDARD
TZOFFSETFROM:-0400
TZOFFSETTO:-0500
TZNAME:EST
DTSTART:20251102T060000
END:STANDARD
BEGIN:DAYLIGHT
TZOFFSETFROM:-0500
TZOFFSETTO:-0400
TZNAME:EDT
DTSTART:20260308T070000
END:DAYLIGHT
BEGIN:STANDARD
TZOFFSETFROM:-0400
TZOFFSETTO:-0500
TZNAME:EST
DTSTART:20261101T060000
END:STANDARD
BEGIN:DAYLIGHT
TZOFFSETFROM:-0500
TZOFFSETTO:-0400
TZNAME:EDT
DTSTART:20270314T070000
END:DAYLIGHT
BEGIN:STANDARD
TZOFFSETFROM:-0400
TZOFFSETTO:-0500
TZNAME:EST
DTSTART:20271107T060000
END:STANDARD
END:VTIMEZONE
BEGIN:VEVENT
DTSTART;TZID=America/New_York:20260422T100000
DTEND;TZID=America/New_York:20260422T140000
DTSTAMP:20260420T230620
CREATED:20260418T192629Z
LAST-MODIFIED:20260418T192629Z
UID:10001850-1776852000-1776866400@crgc.org
SUMMARY:5 stand & Skeet - RIFLE is CLOSED
DESCRIPTION:
URL:https://crgc.org/event-2/5-stand-skeet-rifle-is-closed-8/
END:VEVENT
BEGIN:VEVENT
DTSTART;TZID=America/New_York:20260425T100000
DTEND;TZID=America/New_York:20260425T140000
DTSTAMP:20260420T230620
CREATED:20260420T011440Z
LAST-MODIFIED:20260420T011440Z
UID:10001857-1777111200-1777125600@crgc.org
SUMMARY:5 stand & Skeet - Rifle is CLOSED
DESCRIPTION:
URL:https://crgc.org/event-2/5-stand-skeet-rifle-is-closed/
END:VEVENT
BEGIN:VEVENT
DTSTART;TZID=America/New_York:20260426T130000
DTEND;TZID=America/New_York:20260426T150000
DTSTAMP:20260420T230620
CREATED:20260403T130623Z
LAST-MODIFIED:20260418T193216Z
UID:10001793-1777208400-1777215600@crgc.org
SUMMARY:Youth Trap League - Rifle closed one hour before and after this time slot
DESCRIPTION:Youth Trap League – Rifle closed one hour before and after this time slot
URL:https://crgc.org/event-2/youth-trap-league-rifle-closed-one-hour-before-and-after-this-time-slot/2026-04-26/
END:VEVENT
END:VCALENDAR