BEGIN:VCALENDAR
VERSION:2.0
PRODID:-//Cedar Rod and Gun Club - ECPv6.15.20//NONSGML v1.0//EN
CALSCALE:GREGORIAN
METHOD:PUBLISH
X-WR-CALNAME:Cedar Rod and Gun Club
X-ORIGINAL-URL:https://crgc.org
X-WR-CALDESC:Events for Cedar Rod and Gun Club
REFRESH-INTERVAL;VALUE=DURATION:PT1H
X-Robots-Tag:noindex
X-PUBLISHED-TTL:PT1H
BEGIN:VTIMEZONE
TZID:America/New_York
BEGIN:DAYLIGHT
TZOFFSETFROM:-0500
TZOFFSETTO:-0400
TZNAME:EDT
DTSTART:20250309T070000
END:DAYLIGHT
BEGIN:STANDARD
TZOFFSETFROM:-0400
TZOFFSETTO:-0500
TZNAME:EST
DTSTART:20251102T060000
END:STANDARD
BEGIN:DAYLIGHT
TZOFFSETFROM:-0500
TZOFFSETTO:-0400
TZNAME:EDT
DTSTART:20260308T070000
END:DAYLIGHT
BEGIN:STANDARD
TZOFFSETFROM:-0400
TZOFFSETTO:-0500
TZNAME:EST
DTSTART:20261101T060000
END:STANDARD
BEGIN:DAYLIGHT
TZOFFSETFROM:-0500
TZOFFSETTO:-0400
TZNAME:EDT
DTSTART:20270314T070000
END:DAYLIGHT
BEGIN:STANDARD
TZOFFSETFROM:-0400
TZOFFSETTO:-0500
TZNAME:EST
DTSTART:20271107T060000
END:STANDARD
END:VTIMEZONE
BEGIN:VEVENT
DTSTART;TZID=America/New_York:20260510T130000
DTEND;TZID=America/New_York:20260510T150000
DTSTAMP:20260421T121019
CREATED:20260403T130623Z
LAST-MODIFIED:20260418T193216Z
UID:10001795-1778418000-1778425200@crgc.org
SUMMARY:Youth Trap League - Rifle closed one hour before and after this time slot
DESCRIPTION:Youth Trap League – Rifle closed one hour before and after this time slot
URL:https://crgc.org/event-2/youth-trap-league-rifle-closed-one-hour-before-and-after-this-time-slot/2026-05-10/
END:VEVENT
END:VCALENDAR